BEGIN:VCALENDAR
VERSION:2.0
X-WR-CALNAME:West Philly Local
BEGIN:VEVENT
SUMMARY:West Philly Health Fair and Holiday Giveaway
URL;VALUE=URI:https://www.westphillylocal.com/events/west-philly-health-fair-and-holiday-giveaway/
UID:https://www.westphillylocal.com/events/west-philly-health-fair-and-holiday-giveaway/
DESCRIPTION:Divinity Hall - - Horizon House\, a nonprofit serving those with mental and/or developmental disabilities across the Philadelphia region for over 70 years\, is teaming up with fellow nonprofits and businesses headquartered in West Philadelphia and 4th District Philadelphia City Councilman Curtis Jones\, Jr. for the West Philly Health Fair and Holiday Giveaway. This event will provide numerous health and community resources for families and individuals who call the local West Philly area home. Health screenings and more information will be available on site for all attendees. Santa Claus will be on hand starting at 1 p.m. to provide free gifts for children in need in the area. He will also be raffling gift baskets for the adults in attendance. The purpose of this event is to bring local residents of West Philly together and provide vital information on critical\, life-affirming resources available to the community all while bringing some holiday cheer to all who attend young and old. WHERE: Divinity Hall &#8211\; 6011 Market Street in West Philadelphia WHEN: Saturday\, Dec. 16 TIME: 11 a.m. &#8211\; 3 p.m. Health Fair and Community Resources from 11 a.m. &#8211\; 1 p.m. Holiday Giveaway featuring Santa Claus and gifts for local children from 1 p.m. &#8211\; 3 p.m. &nbsp\; [by: West Philly Local]
TRANSP:TRANSPARENT
DTSTART;VALUE=DATE-TIME:20231216T110000Z
DTEND;VALUE=DATE-TIME:20231216T170000Z
END:VEVENT
END:VCALENDAR
