BEGIN:VCALENDAR
VERSION:2.0
X-WR-CALNAME:West Philly Local
BEGIN:VEVENT
SUMMARY:Tiffany Fletcher Recreation Center (formerly Mill Creek) Official Renaming Ceremony and Pool Opening
URL;VALUE=URI:https://www.westphillylocal.com/events/tiffany-fletcher-recreation-center-renaming-ceremony-and-pool-opening/
UID:https://www.westphillylocal.com/events/tiffany-fletcher-recreation-center-renaming-ceremony-and-pool-opening/
DESCRIPTION:Tiffany Fletcher (formerly Mill Creek) Recreation Center - - City officials will join the community to celebrate the renaming of the Mill Creek Playground in honor of Tiffany Fletcher\, a former Pool Maintenance Attendant at the site\, who was killed during a shooting at the site last year. The renaming ceremony will be followed by the first official pool opening of the season at 12:30 p.m. &nbsp\; [by: West Philly Local]
TRANSP:TRANSPARENT
DTSTART;VALUE=DATE-TIME:20230614T120000Z
DTEND;VALUE=DATE-TIME:20230614T180000Z
END:VEVENT
END:VCALENDAR
