BEGIN:VCALENDAR
VERSION:2.0
X-WR-CALNAME:West Philly Local
BEGIN:VEVENT
SUMMARY:The West Philly Meeting
URL;VALUE=URI:https://www.westphillylocal.com/events/the-west-philly-meeting/
UID:https://www.westphillylocal.com/events/the-west-philly-meeting/
DESCRIPTION:Malcolm X Park - S 52nd St &amp\; Pine St\, Philadelphia\, PA 19143\, USA - &nbsp\; Two years in the making\, Theatre in the X presents our community-created play &#8211\; The West Philly Meeting.  As the characters and the audience come together with open minds\, they find that they have the solution to heal what ails them. &nbsp\; [by: West Philly Local]
TRANSP:TRANSPARENT
DTSTART;VALUE=DATE-TIME:20210815T170000Z
DTEND;VALUE=DATE-TIME:20210815T230000Z
END:VEVENT
END:VCALENDAR
