BEGIN:VCALENDAR
VERSION:2.0
X-WR-CALNAME:West Philly Local
BEGIN:VEVENT
SUMMARY:The Lady Hoofers Celebrate National Tap Dance Day
URL;VALUE=URI:https://www.westphillylocal.com/events/the-lady-hoofers-celebrate-national-tap-dance-day/
UID:https://www.westphillylocal.com/events/the-lady-hoofers-celebrate-national-tap-dance-day/
DESCRIPTION:Clark Park "B" - Chester Ave &amp\; S 43rd St\, Philadelphia\, PA 19104\, USA - The Lady Hoofers Tap Ensemble invites you to a free public performance in West Philadelphia&#8217\;s Clark Park in celebration of National Tap Dance Day. The free\, 60-minute concert will include company favorites and new repertory performed by the ensemble’s First Company and Apprentice dancers. This outdoor\, socially distanced performance is free to the public thanks to support by the Philadelphia Cultural Fund and Philadelphia Parks &amp\; Recreation. Everyone is encouraged to wear a mask and is required to keep at least 6ft of distance from other park visitors. We request that individuals experiencing symptoms of COVID-19\, or who have come in contact with someone who has tested positive within the past 14 days\, refrain from attending. &nbsp\; [by: West Philly Local]
TRANSP:TRANSPARENT
DTSTART;VALUE=DATE-TIME:20210523T170000Z
DTEND;VALUE=DATE-TIME:20210523T230000Z
END:VEVENT
END:VCALENDAR
