BEGIN:VCALENDAR
VERSION:2.0
X-WR-CALNAME:West Philly Local
BEGIN:VEVENT
SUMMARY:Summer Nights Concert Series: Zydeco-A-Go-Go
URL;VALUE=URI:https://www.westphillylocal.com/events/summer-nights-concert-series-zydeco-a-go-go/
UID:https://www.westphillylocal.com/events/summer-nights-concert-series-zydeco-a-go-go/
DESCRIPTION:Penn Museum - 3260 South St\, Philadelphia\, PA 19104\, USA - &nbsp\; Summertime means good tunes and great times at the Penn Museum\, where we celebrate our seventh annual Summer Nights Concert Series! Each week brings a new musical experience to the Museum’s outdoor garden courtyard. With Creole Zydeco and Cajun 2-steps\, Zydeco-A-Go-Go combines funky New Orleans rhythm and blues and vintage Louisiana rock ‘n roll into a spicy gumbo of irresistible dance music. Admission: $10 and includes Museum admission. *Concerts move indoors during inclement weather. More info: http://www.pennmuseum.org &nbsp\; [by: West Philly Local]
TRANSP:TRANSPARENT
DTSTART;VALUE=DATE-TIME:20160720T170000Z
DTEND;VALUE=DATE-TIME:20160720T220000Z
END:VEVENT
END:VCALENDAR
