BEGIN:VCALENDAR
VERSION:2.0
X-WR-CALNAME:West Philly Local
BEGIN:VEVENT
SUMMARY:Give Kids Sight Day: Free Vision Screening for Philadelphia Area Children
URL;VALUE=URI:https://www.westphillylocal.com/events/give-kids-sight-day-free-vision-screening-for-philadelphia-area-children/
UID:https://www.westphillylocal.com/events/give-kids-sight-day-free-vision-screening-for-philadelphia-area-children/
DESCRIPTION: - - Wills Eye Hospital will host its 16th annual Give Kids Sight Day on Saturday\, October 4. This initiative allows uninsured and underinsured children in the Greater Philadelphia area to get access to vision care including eye glass prescriptions. Day-of walk-in appointments are welcome. Children ages 6 – 17 from Philadelphia and surrounding counties will be screened by volunteers. Children will receive a same-day vision exam and eyeglasses prescription. Kids will pick out two free glasses frames courtesy of the OneSight EssilorLuxottica Foundation\, which will then be made to their specific prescription and available for pickup at a separate event later this fall. The event is hosted in partnership with Thomas Jefferson University\, the School District of Philadelphia\, and the OneSight EssilorLuxottica Foundation. Saturday\, October 4\, 2025\, 8 a.m. – 1 p.m. Wills Eye Hospital\, 840 Walnut St.\, Philadelphia\, PA 19107 https://www.willseye.org/ &nbsp\; [by: West Philly Local]
TRANSP:TRANSPARENT
DTSTART;VALUE=DATE-TIME:20251004T130000Z
DTEND;VALUE=DATE-TIME:20251004T190000Z
END:VEVENT
END:VCALENDAR
