BEGIN:VCALENDAR
VERSION:2.0
X-WR-CALNAME:West Philly Local
BEGIN:VEVENT
SUMMARY:FREE #STEM Computer Coding Classes
URL;VALUE=URI:https://www.westphillylocal.com/events/free-stem-computer-coding-classes/
UID:https://www.westphillylocal.com/events/free-stem-computer-coding-classes/
DESCRIPTION:Rudolphy/Mercy-Douglass Home for the Blind - - Techcore2 Nonprofit Corporation is a $50K grant recipient of Gov. Wolf Announced $15.7 Million in Violence Intervention and Prevention Grants and is providing FREE Saturday computer coding classes to Philadelphia youth\, targeting the Mantua and West Philadelphia community. Classes are offered from April 9 &#8211\; May 21\, 2022. TIME SLOT T1: (11:00 am &#8211\; 12:30 pm) 1A) Parent &amp\; Me SCRATCH Coding (K to 2nd grades) 1B) SCRATCH Coding (3rd to 5th grades) 1C) SCRATCH Coding (6th to 8th grades) TIME SLOT T2: (1:00 pm &#8211\; 2:30 pm) 2A) Robolox Game Design &amp\; Play (Parent &amp\; Me: Kindergarten to 2nd grades) 2B) Robolox Game Design &amp\; Play (3rd to 5th grades) 2C) Fortnite (6th to 8th grades) TIME SLOT T2: (3:00 pm &#8211\; 4:30 pm) 3A) Grasshopper SmartPhone JavaScript Coding (6th to 12th grades) 3B) Lego Mindstorm Robotics (grades 4th to 8th) 3C) SCRATCH Intro. &amp\; Intermediate Coding (3rd to 8th grades) Classes will be held in-person at Rudolphy/Mercy-Douglass Home for the Blind\, 3827 Powelton Avenue\, Philadelphia\, PA 19104 (Entrance through driveway in Rear of building). REGISTER at: https://techcore2corp.jumbula.com Use Coupon Code: &#8220\;PhillyYouthVIPGrant&#8221\; for FREE scholarships. &nbsp\; [by: West Philly Local]
TRANSP:TRANSPARENT
DTSTART;VALUE=DATE-TIME:20220409T110000Z
DTEND;VALUE=DATE-TIME:20220417T190000Z
END:VEVENT
END:VCALENDAR
