BEGIN:VCALENDAR
VERSION:2.0
X-WR-CALNAME:West Philly Local
BEGIN:VEVENT
SUMMARY:First Friday West Philly
URL;VALUE=URI:https://www.westphillylocal.com/events/first-friday-west-philly-6/
UID:https://www.westphillylocal.com/events/first-friday-west-philly-6/
DESCRIPTION:Indie Life Media - - Philly folks! Indie-Life&#8217\;s First Friday is BACK for its third installment of 2021 and we&#8217\;re celebrating the Arts in West Philadelphia! This month we’ll be showcasing the work of local artists Melanie Rodriguez\, Chelsey Luster\, Abby Deubler and Stephen Hill in our Indie-Life Creative Studio. Enjoy the arts at happy hour with arts &amp\; crafts for your inner artists and sounds from a local DJ. Plus\, there will be light bites and drinks for you to enjoy. RSVP is required for admission. For the health and safety of our guests\, Indie-Life Creative Studio requires all attendees\, including vaccinated attendees\, to wear a mask while in the indoor space. Masks are not required in the outdoor space. https://www.eventbrite.com/e/first-friday-west-philly-tickets-157431976279 &nbsp\; [by: West Philly Local]
TRANSP:TRANSPARENT
DTSTART;VALUE=DATE-TIME:20210806T170000Z
DTEND;VALUE=DATE-TIME:20210806T230000Z
END:VEVENT
END:VCALENDAR
