BEGIN:VCALENDAR
VERSION:2.0
X-WR-CALNAME:West Philly Local
BEGIN:VEVENT
SUMMARY:Dynamite Pest Control Community Day
URL;VALUE=URI:https://www.westphillylocal.com/events/dynamite-pest-control-community-day/
UID:https://www.westphillylocal.com/events/dynamite-pest-control-community-day/
DESCRIPTION:Malcolm X Park - S 52nd St &amp\; Pine St\, Philadelphia\, PA 19143\, USA - &nbsp\; Friends of Malcolm X Park presents Dynamite Pest Control Community Day on Saturday\, May 20\, 12-5 p.m. The event is free and open to the public and includes free food and activities for children. See the flier for more information. &nbsp\; [by: West Philly Local]
TRANSP:TRANSPARENT
DTSTART;VALUE=DATE-TIME:20170520T120000Z
DTEND;VALUE=DATE-TIME:20170520T200000Z
END:VEVENT
END:VCALENDAR
