BEGIN:VCALENDAR
VERSION:2.0
X-WR-CALNAME:West Philly Local
BEGIN:VEVENT
SUMMARY:Digital Summit Philadelphia 2021
URL;VALUE=URI:https://www.westphillylocal.com/events/digital-summit-philadelphia-2021/
UID:https://www.westphillylocal.com/events/digital-summit-philadelphia-2021/
DESCRIPTION:Pennsylvania Convention Center - 1101 Arch St\, Philadelphia\, PA 19107\, USA - Staying on top of you digital marketing game is essential to run successful marketing strategies. Digital Summit produces a national series of conferences where you can find the latest best practices in all aspects of marketing and deliver those directly to you. The marketing landscape is constantly changing\, and Digital Summit is your ultimate guide! https://philadelphia.digitalsummit.com/ &nbsp\; [by: West Philly Local]
TRANSP:TRANSPARENT
DTSTART;VALUE=DATE-TIME:20210825T083000Z
DTEND;VALUE=DATE-TIME:20210826T083000Z
END:VEVENT
END:VCALENDAR
