BEGIN:VCALENDAR
VERSION:2.0
X-WR-CALNAME:West Philly Local
BEGIN:VEVENT
SUMMARY:Community/Police meeting Thursday at Calvary
URL;VALUE=URI:https://www.westphillylocal.com/events/communitypolice-meeting-thursday-at-calvary/
UID:https://www.westphillylocal.com/events/communitypolice-meeting-thursday-at-calvary/
DESCRIPTION:Calvary Center for Culture and Community - 801 S 48th St\, Philadelphia\, PA 19143\, USA - Thursday\, January 21 &#8211\; 6 pm Calvary Center at 48th &amp\; Baltimore Ave. &#8211\; Community meeting with Lt. Brian McBride of the University City Division of the Phila. 18th Police District and representatives of UCD. Bring your concerns and discuss crime and neighborhood issues. Please share this message with friends and neighbors. [by: West Philly Local]
TRANSP:TRANSPARENT
DTSTART;VALUE=DATE-TIME:20160121T180000Z
DTEND;VALUE=DATE-TIME:20160121T220000Z
END:VEVENT
END:VCALENDAR
