BEGIN:VCALENDAR
VERSION:2.0
X-WR-CALNAME:West Philly Local
BEGIN:VEVENT
SUMMARY:Community/Police meeting at Calvary
URL;VALUE=URI:https://www.westphillylocal.com/events/community-police-meeting-at-calvary-13/
UID:https://www.westphillylocal.com/events/community-police-meeting-at-calvary-13/
DESCRIPTION:Calvary Center for Culture and Community - 801 S 48th St\, Philadelphia\, PA 19143\, USA - Thursday\, May 16 – Calvary Center at 48th &amp\; Baltimore Ave. – 6 pm – Community meeting with Lt. Sean Cobette of the University City Division of the Phila. 18th Police District and representatives of UCD. Bring your concerns and discuss crime and neighborhood issues. Please share this message with friends and neighbors. Please note: The meeting this month will take place downstairs in the Fellowship Hall. &nbsp\; [by: West Philly Local]
TRANSP:TRANSPARENT
DTSTART;VALUE=DATE-TIME:20190516T180000Z
DTEND;VALUE=DATE-TIME:20190517T000000Z
END:VEVENT
END:VCALENDAR
