BEGIN:VCALENDAR
VERSION:2.0
X-WR-CALNAME:West Philly Local
BEGIN:VEVENT
SUMMARY:Community Flea Market + Free Giveaways
URL;VALUE=URI:https://www.westphillylocal.com/events/community-flea-market-free-giveaways/
UID:https://www.westphillylocal.com/events/community-flea-market-free-giveaways/
DESCRIPTION:Christ Haven Pentecostal Church - - &nbsp\; The Christ Haven Community Outreach Ministry is hosting a Flea Market on Saturday\, June 6\, 9 a.m.-4 p.m. Space is $20 (bring your own table). $25 for the table provided by Christ Haven. The event will also include free giveaways. See the attached flyer for more information or call 267.475.3407. &nbsp\; [by: West Philly Local]
TRANSP:TRANSPARENT
DTSTART;VALUE=DATE-TIME:20260606T090000Z
DTEND;VALUE=DATE-TIME:20260606T150000Z
END:VEVENT
END:VCALENDAR
