BEGIN:VCALENDAR
VERSION:2.0
X-WR-CALNAME:West Philly Local
BEGIN:VEVENT
SUMMARY:Community Day at Malcolm X Park
URL;VALUE=URI:https://www.westphillylocal.com/events/community-day-at-malcolm-x-park/
UID:https://www.westphillylocal.com/events/community-day-at-malcolm-x-park/
DESCRIPTION:Malcolm X Park - S 52nd St &amp\; Pine St\, Philadelphia\, PA 19143\, USA - Friends of Malcolm X Park and Dynamite Pest Control are inviting everyone to the annual Community Day at Malcolm X Park on Saturday\, May 12\, 12-5 p.m. The event will include social services\, free food\, and lots of fun activities for kids. See the flyer for more information. &nbsp\; [by: West Philly Local]
TRANSP:TRANSPARENT
DTSTART;VALUE=DATE-TIME:20180512T120000Z
DTEND;VALUE=DATE-TIME:20180512T200000Z
END:VEVENT
END:VCALENDAR
